BEGIN:VCALENDAR
VERSION:2.0
PRODID:-//Multiethnic Advocates for Cultural Competence, Inc. (MACC) - ECPv6.15.20//NONSGML v1.0//EN
CALSCALE:GREGORIAN
METHOD:PUBLISH
X-WR-CALNAME:Multiethnic Advocates for Cultural Competence, Inc. (MACC)
X-ORIGINAL-URL:https://maccinc.net
X-WR-CALDESC:Events for Multiethnic Advocates for Cultural Competence, Inc. (MACC)
REFRESH-INTERVAL;VALUE=DURATION:PT1H
X-Robots-Tag:noindex
X-PUBLISHED-TTL:PT1H
BEGIN:VTIMEZONE
TZID:America/New_York
BEGIN:DAYLIGHT
TZOFFSETFROM:-0500
TZOFFSETTO:-0400
TZNAME:EDT
DTSTART:20250309T070000
END:DAYLIGHT
BEGIN:STANDARD
TZOFFSETFROM:-0400
TZOFFSETTO:-0500
TZNAME:EST
DTSTART:20251102T060000
END:STANDARD
BEGIN:DAYLIGHT
TZOFFSETFROM:-0500
TZOFFSETTO:-0400
TZNAME:EDT
DTSTART:20260308T070000
END:DAYLIGHT
BEGIN:STANDARD
TZOFFSETFROM:-0400
TZOFFSETTO:-0500
TZNAME:EST
DTSTART:20261101T060000
END:STANDARD
BEGIN:DAYLIGHT
TZOFFSETFROM:-0500
TZOFFSETTO:-0400
TZNAME:EDT
DTSTART:20270314T070000
END:DAYLIGHT
BEGIN:STANDARD
TZOFFSETFROM:-0400
TZOFFSETTO:-0500
TZNAME:EST
DTSTART:20271107T060000
END:STANDARD
END:VTIMEZONE
BEGIN:VEVENT
DTSTART;TZID=America/New_York:20260409T180000
DTEND;TZID=America/New_York:20260409T200000
DTSTAMP:20260423T185234
CREATED:20260402T222932Z
LAST-MODIFIED:20260403T023154Z
UID:10000002-1775757600-1775764800@maccinc.net
SUMMARY:Church Talk: A Congregation Conversation regarding Substance Use Disorder & Mental Health
DESCRIPTION:Church Talk is a faith-centered conversation space designed to bring together churches\, ministry leaders\, faith-based organizations\, and community members for open and meaningful dialogue around issues impacting our communities. \nJoin us on Thursday\, April 9\, 2026\, from 6:00 p.m. to 8:00 p.m. for an evening focused on Substance Use Disorder and Mental Health. This conversation will include reflection\, shared resources\, and refreshments\, while creating space to explore how churches can help Start the Right Conversation within their congregations and communities. \nModeled after a “Let’s Talk” discussion\, Church Talk offers a welcoming and supportive environment where faith communities can come together to share perspectives\, reduce stigma\, and consider compassionate ways to support individuals and families impacted by substance use disorder and mental health challenges. \nThrough conversation\, reflection\, and connection\, Church Talk aims to encourage faith communities to strengthen families\, uplift those in need\, and promote healing and well-being across the community. \nRegister Now
URL:https://maccinc.net/event/church-talk-a-congregation-conversation-regarding-substance-use-disorder-mental-health/
LOCATION:Trinity Baptist Church\, 461 St. Clair Avenue\, Columbus\, 43203\, United States
CATEGORIES:Event
ATTACH;FMTTYPE=image/avif:https://maccinc.net/wp-content/uploads/2026/04/STRC-CHURCH-TALK-APR-2026-PROMO.avif
END:VEVENT
END:VCALENDAR