BEGIN:VCALENDAR
VERSION:2.0
PRODID:-//Multiethnic Advocates for Cultural Competence, Inc. (MACC) - ECPv6.15.20//NONSGML v1.0//EN
CALSCALE:GREGORIAN
METHOD:PUBLISH
X-WR-CALNAME:Multiethnic Advocates for Cultural Competence, Inc. (MACC)
X-ORIGINAL-URL:https://maccinc.net
X-WR-CALDESC:Events for Multiethnic Advocates for Cultural Competence, Inc. (MACC)
REFRESH-INTERVAL;VALUE=DURATION:PT1H
X-Robots-Tag:noindex
X-PUBLISHED-TTL:PT1H
BEGIN:VTIMEZONE
TZID:America/New_York
BEGIN:DAYLIGHT
TZOFFSETFROM:-0500
TZOFFSETTO:-0400
TZNAME:EDT
DTSTART:20250309T070000
END:DAYLIGHT
BEGIN:STANDARD
TZOFFSETFROM:-0400
TZOFFSETTO:-0500
TZNAME:EST
DTSTART:20251102T060000
END:STANDARD
BEGIN:DAYLIGHT
TZOFFSETFROM:-0500
TZOFFSETTO:-0400
TZNAME:EDT
DTSTART:20260308T070000
END:DAYLIGHT
BEGIN:STANDARD
TZOFFSETFROM:-0400
TZOFFSETTO:-0500
TZNAME:EST
DTSTART:20261101T060000
END:STANDARD
BEGIN:DAYLIGHT
TZOFFSETFROM:-0500
TZOFFSETTO:-0400
TZNAME:EDT
DTSTART:20270314T070000
END:DAYLIGHT
BEGIN:STANDARD
TZOFFSETFROM:-0400
TZOFFSETTO:-0500
TZNAME:EST
DTSTART:20271107T060000
END:STANDARD
END:VTIMEZONE
BEGIN:VEVENT
DTSTART;TZID=America/New_York:20260425T100000
DTEND;TZID=America/New_York:20260425T113000
DTSTAMP:20260423T150247
CREATED:20260421T035723Z
LAST-MODIFIED:20260421T035941Z
UID:10000014-1777111200-1777116600@maccinc.net
SUMMARY:Teen Talk!
DESCRIPTION:Hosted by 100 Black Men of Central Ohio\, Inc. as part of their Elevate Leadership AcademyPresented in partnership with Multiethnic Advocates for Cultural Competence (MACC) through the Start The Right Conversation campaign and sponsored by ADAMH of Franklin County. \nTeen Talk! is a youth-centered community conversation designed to create space for honest dialogue around substance use and mental health challenges. As part of MACC’s Start The Right Conversation campaign\, this event is intended to encourage open discussion\, meaningful connection\, and supportive engagement with young people in a welcoming community setting. \nThrough guided conversation and shared reflection\, Teen Talk! offers youth an opportunity to be heard\, encouraged\, and connected with helpful resources. This event centers the importance of youth voice while promoting understanding\, support\, and healthier conversations around topics that deeply affect young people\, families\, schools\, and communities. \nTeen Talk! also reflects the mission of the Elevate Leadership Academy by uplifting young voices\, encouraging personal growth\, and helping participants build confidence\, connection\, and awareness. \nWhat to Expect \n\nOpen and supportive conversation – Youth will have space to engage in real talk about substance use\, mental health\, and the challenges facing young people today.\nEncouragement and connection – Participants will be welcomed into a setting that promotes listening\, support\, and respectful dialogue.\nResource sharing – Attendees will be connected with helpful information\, community resources\, and support options.\nYouth-centered engagement – The event is designed to uplift youth voice and create an environment where young people feel seen\, heard\, and valued.\nCommunity-based support – Teen Talk brings together trusted organizations and community leadership to foster awareness\, connection\, and hope.\n\nWho Should Attend? \n\nTeens and youth\nFamilies and caregivers\nYouth-serving professionals\nEducators and school staff\nCommunity members\nMentors and youth advocates\nAnyone interested in supporting healthy conversations around youth mental health and substance use\n\nEvent DetailsSaturday\, April 25\, 202610:00 AM – 11:30 AMColumbus Africentric Early College3223 Allegheny AvenueColumbus\, Ohio 43209 \nRegistration is not required. \n                                             
URL:https://maccinc.net/event/teen-talk/
LOCATION:Columbus Africentric Early College\, 3223 Allegheny Avenue\, Columbus\, OH\, 43209\, United States
CATEGORIES:Event
ATTACH;FMTTYPE=image/png:https://maccinc.net/wp-content/uploads/2026/04/STRC-TeenTalk-Promo-Flyer-APR-2026-e1776727868155.png
END:VEVENT
END:VCALENDAR